BEGIN:VCALENDAR
VERSION:2.0
BEGIN:VEVENT
URL:https://tickets.cornerhotel.com/outlet/event/f4c1d23e-0dfe-4d36-abda-3483cb495e0a
DTSTART:20260512T083000Z
DTEND:20260512T083000Z
SUMMARY:Country Struts (Boot Scooting Classes)
DESCRIPTION:Event details: https://tickets.cornerhotel.com/outlet/event/f4c1d23e-0dfe-4d36-abda-3483cb495e0a
LOCATION:Corner Hotel (Richmond, Melbourne, VIC)
END:VEVENT
END:VCALENDAR