BEGIN:VCALENDAR
VERSION:2.0
BEGIN:VEVENT
URL:https://tickets.cornerhotel.com/outlet/event/eb2df16c-6346-40b2-a0db-ffc9a9deef49
DTSTART:20260929T090000Z
DTEND:20260929T090000Z
SUMMARY:Candlemass (SWE)
DESCRIPTION:Event details: https://tickets.cornerhotel.com/outlet/event/eb2df16c-6346-40b2-a0db-ffc9a9deef49
LOCATION:Corner Hotel (Richmond, Melbourne, VIC)
END:VEVENT
END:VCALENDAR