BEGIN:VCALENDAR
VERSION:2.0
BEGIN:VEVENT
URL:https://tickets.cornerhotel.com/outlet/event/e682d032-a9ef-47ba-922c-856659e0a8fe
DTSTART:20260528T093000Z
DTEND:20260528T093000Z
SUMMARY:An Evening With Black Flag
DESCRIPTION:Event details: https://tickets.cornerhotel.com/outlet/event/e682d032-a9ef-47ba-922c-856659e0a8fe
LOCATION:Corner Hotel (Richmond, Melbourne, VIC)
END:VEVENT
END:VCALENDAR