BEGIN:VCALENDAR
VERSION:2.0
BEGIN:VEVENT
URL:https://tickets.cornerhotel.com/outlet/event/c64bafdc-943e-4da5-9cc9-90d94c0c94ac
DTSTART:20260527T090000Z
DTEND:20260527T090000Z
SUMMARY:Oren Ambarchi (Fully Seated)
DESCRIPTION:Event details: https://tickets.cornerhotel.com/outlet/event/c64bafdc-943e-4da5-9cc9-90d94c0c94ac
LOCATION:Corner Hotel (Richmond, Melbourne, VIC)
END:VEVENT
END:VCALENDAR