BEGIN:VCALENDAR
VERSION:2.0
BEGIN:VEVENT
URL:https://tickets.cornerhotel.com/outlet/event/bdc2fdb6-58b5-434a-ac6d-cffe4cdd4abc
DTSTART:20260828T100000Z
DTEND:20260828T100000Z
SUMMARY:Montaigne - Glorious Heights 10th Anniversary Tour
DESCRIPTION:Event details: https://tickets.cornerhotel.com/outlet/event/bdc2fdb6-58b5-434a-ac6d-cffe4cdd4abc
LOCATION:Corner Hotel (Richmond, Melbourne, VIC)
END:VEVENT
END:VCALENDAR