BEGIN:VCALENDAR
VERSION:2.0
BEGIN:VEVENT
URL:https://tickets.cornerhotel.com/outlet/event/bd204784-9d62-4071-8bf5-d4df66d8225a
DTSTART:20260502T103000Z
DTEND:20260502T103000Z
SUMMARY:Taylor Swift ERAS Celebration
DESCRIPTION:Event details: https://tickets.cornerhotel.com/outlet/event/bd204784-9d62-4071-8bf5-d4df66d8225a
LOCATION:Corner Hotel (Richmond, Melbourne, VIC)
END:VEVENT
END:VCALENDAR