BEGIN:VCALENDAR
VERSION:2.0
BEGIN:VEVENT
URL:https://tickets.cornerhotel.com/outlet/event/b6b48645-3fac-44a1-aae7-7258cd7d6e37
DTSTART:20260519T083000Z
DTEND:20260519T083000Z
SUMMARY:Country Struts (Boot Scooting Classes)
DESCRIPTION:Event details: https://tickets.cornerhotel.com/outlet/event/b6b48645-3fac-44a1-aae7-7258cd7d6e37
LOCATION:Corner Hotel (Richmond, Melbourne, VIC)
END:VEVENT
END:VCALENDAR