BEGIN:VCALENDAR
VERSION:2.0
BEGIN:VEVENT
URL:https://tickets.cornerhotel.com/outlet/event/b6957c87-4032-4c38-9533-7fd411be1c58
DTSTART:20260615T080000Z
DTEND:20260615T080000Z
SUMMARY:MEDEAs (Melbourne Excellence in Drag & Entertainment Awards)
DESCRIPTION:Event details: https://tickets.cornerhotel.com/outlet/event/b6957c87-4032-4c38-9533-7fd411be1c58
LOCATION:Corner Hotel (Richmond, Melbourne, VIC)
END:VEVENT
END:VCALENDAR