BEGIN:VCALENDAR
VERSION:2.0
BEGIN:VEVENT
URL:https://tickets.cornerhotel.com/outlet/event/a8f8a5fa-6f6e-4e87-8a96-f5d79690cd36
DTSTART:20260421T083000Z
DTEND:20260421T083000Z
SUMMARY:Country Struts (Boot Scooting Classes)
DESCRIPTION:Event details: https://tickets.cornerhotel.com/outlet/event/a8f8a5fa-6f6e-4e87-8a96-f5d79690cd36
LOCATION:Corner Hotel (Richmond, Melbourne, VIC)
END:VEVENT
END:VCALENDAR