BEGIN:VCALENDAR
VERSION:2.0
BEGIN:VEVENT
URL:https://tickets.cornerhotel.com/outlet/event/73cc7ba8-3fb3-4f7e-a5a3-ca798cb5adc7
DTSTART:20260609T083000Z
DTEND:20260609T083000Z
SUMMARY:Country Struts (Boot Scooting Classes)
DESCRIPTION:Event details: https://tickets.cornerhotel.com/outlet/event/73cc7ba8-3fb3-4f7e-a5a3-ca798cb5adc7
LOCATION:Corner Hotel (Richmond, Melbourne, VIC)
END:VEVENT
END:VCALENDAR