BEGIN:VCALENDAR
VERSION:2.0
BEGIN:VEVENT
URL:https://tickets.cornerhotel.com/outlet/event/530598bb-7675-4bb8-843e-a457ced9cb16
DTSTART:20260529T100000Z
DTEND:20260529T100000Z
SUMMARY:Ensiferum (FIN)
DESCRIPTION:Event details: https://tickets.cornerhotel.com/outlet/event/530598bb-7675-4bb8-843e-a457ced9cb16
LOCATION:Corner Hotel (Richmond, Melbourne, VIC)
END:VEVENT
END:VCALENDAR