BEGIN:VCALENDAR
VERSION:2.0
BEGIN:VEVENT
URL:https://tickets.cornerhotel.com/outlet/event/45605b11-5cb4-40e2-9814-66c768388f94
DTSTART:20260623T083000Z
DTEND:20260623T083000Z
SUMMARY:Country Struts (Boot Scooting Classes)
DESCRIPTION:Event details: https://tickets.cornerhotel.com/outlet/event/45605b11-5cb4-40e2-9814-66c768388f94
LOCATION:Corner Hotel (Richmond, Melbourne, VIC)
END:VEVENT
END:VCALENDAR