BEGIN:VCALENDAR
VERSION:2.0
BEGIN:VEVENT
URL:https://tickets.cornerhotel.com/outlet/event/427e4bf8-b5c4-49df-bbb1-9fb13428891d
DTSTART:20260619T093000Z
DTEND:20260619T093000Z
SUMMARY:Blackwater Holylight (USA)
DESCRIPTION:Event details: https://tickets.cornerhotel.com/outlet/event/427e4bf8-b5c4-49df-bbb1-9fb13428891d
LOCATION:Corner Hotel (Richmond, Melbourne, VIC)
END:VEVENT
END:VCALENDAR