BEGIN:VCALENDAR
VERSION:2.0
BEGIN:VEVENT
URL:https://tickets.cornerhotel.com/outlet/event/26a4368f-0346-44e5-8490-07f367f1cbd5
DTSTART:20260606T100000Z
DTEND:20260606T100000Z
SUMMARY:Lior (Autumn Flow 20th Anniversary)
DESCRIPTION:Event details: https://tickets.cornerhotel.com/outlet/event/26a4368f-0346-44e5-8490-07f367f1cbd5
LOCATION:Corner Hotel (Richmond, Melbourne, VIC)
END:VEVENT
END:VCALENDAR