BEGIN:VCALENDAR
VERSION:2.0
BEGIN:VEVENT
URL:https://tickets.cornerhotel.com/outlet/event/1fb189bb-caae-4774-9a5f-d03238c0465c
DTSTART:20260505T083000Z
DTEND:20260505T083000Z
SUMMARY:Country Struts (Boot Scooting Classes)
DESCRIPTION:Event details: https://tickets.cornerhotel.com/outlet/event/1fb189bb-caae-4774-9a5f-d03238c0465c
LOCATION:Corner Hotel (Richmond, Melbourne, VIC)
END:VEVENT
END:VCALENDAR